BEGIN:VCALENDAR
PRODID:-//HH//NONSGML Cascade Server//EN
VERSION:2.0
X-WR-CALNAME:PRIZM Drag Show
X-WR-TIMEZONE:America/New_York
X-MS-OLK-FORCEINSPECTOROPEN:TRUE
X-WR-CALDESC:Annual Drag Perfomance. Part of LGBTQ History Month from the 
Center for International Programs and Inclusive Excellence.
BEGIN:VTIMEZONE
TZID:America/New_York
BEGIN:DAYLIGHT
TZOFFSETFROM:-0500
TZOFFSETTO:-0400
TZNAME:EDT
DTSTART:19700308T020000
RRULE:FREQ=YEARLY;BYMONTH=3;BYDAY=2SU
END:DAYLIGHT
BEGIN:STANDARD
TZOFFSETFROM:-0400
TZOFFSETTO:-0500
TZNAME:EST
DTSTART:19701101T020000
RRULE:FREQ=YEARLY;BYMONTH=11;BYDAY=1SU
END:STANDARD
END:VTIMEZONE
BEGIN:VEVENT
DTSTART:20191023T193000
DTEND:20191023T213000
DTSTAMP:20191023T031753
UID:ad5784e09e8e0b945f987b8dfab30145
CREATED:20191008T154736
DESCRIPTION:Annual Drag Perfomance. Part of LGBTQ History Month from the C
enter for International Programs and Inclusive Excellence.
LAST-MODIFIED:20191008T154736
LOCATION:OSC Ballroom
SEQUENCE:0
STATUS:CONFIRMED
SUMMARY:PRIZM Drag Show
TRANSP:OPAQUE
END:VEVENT
BEGIN:VEVENT
DTSTART:20191023T193000
DTEND:20191023T213000
DTSTAMP:20191023T031753
UID:ad5784e09e8e0b945f987b8dfab30145
CREATED:20191008T154736
DESCRIPTION:Annual Drag Perfomance. Part of LGBTQ History Month from the C
enter for International Programs and Inclusive Excellence.
LAST-MODIFIED:20191008T154736
LOCATION:OSC Ballroom
SEQUENCE:0
STATUS:CONFIRMED
SUMMARY:PRIZM Drag Show
TRANSP:OPAQUE
END:VEVENT
END:VCALENDAR
# <pass-through></pass-through>