BEGIN:VCALENDAR
PRODID:-//HH//NONSGML Cascade Server//EN
VERSION:2.0
X-WR-CALNAME:Pueblo History Tour
X-WR-TIMEZONE:America/New_York
X-MS-OLK-FORCEINSPECTOROPEN:TRUE
X-WR-CALDESC:Pueblo History Tour (Family/Alumni). Walking tour Union Avenue
BEGIN:VTIMEZONE
TZID:America/New_York
BEGIN:DAYLIGHT
TZOFFSETFROM:-0500
TZOFFSETTO:-0400
TZNAME:EDT
DTSTART:19700308T020000
RRULE:FREQ=YEARLY;BYMONTH=3;BYDAY=2SU
END:DAYLIGHT
BEGIN:STANDARD
TZOFFSETFROM:-0400
TZOFFSETTO:-0500
TZNAME:EST
DTSTART:19701101T020000
RRULE:FREQ=YEARLY;BYMONTH=11;BYDAY=1SU
END:STANDARD
END:VTIMEZONE
BEGIN:VEVENT
DTSTART:20191018T153000
DTEND:20191018T173000
DTSTAMP:20191018T031840
UID:bc3eec619e8e0b945f987b8df78e471e
CREATED:20191011T131503
DESCRIPTION:
LAST-MODIFIED:20191011T131503
LOCATION:Pueblo Heritage Museum\, 201 West B Street
SEQUENCE:0
STATUS:CONFIRMED
SUMMARY:Pueblo History Tour
TRANSP:OPAQUE
END:VEVENT
BEGIN:VEVENT
DTSTART:20191018T153000
DTEND:20191018T173000
DTSTAMP:20191018T031840
UID:bc3eec619e8e0b945f987b8df78e471e
CREATED:20191011T131503
DESCRIPTION:
LAST-MODIFIED:20191011T131503
LOCATION:Pueblo Heritage Museum\, 201 West B Street
SEQUENCE:0
STATUS:CONFIRMED
SUMMARY:Pueblo History Tour
TRANSP:OPAQUE
END:VEVENT
END:VCALENDAR
# <pass-through></pass-through>