BEGIN:VCALENDAR
PRODID:-//HH//NONSGML Cascade Server//EN
VERSION:2.0
X-WR-CALNAME:Research Seminar: Allyn C. Howlett\, Ph.D.
X-WR-TIMEZONE:America/New_York
X-MS-OLK-FORCEINSPECTOROPEN:TRUE
X-WR-CALDESC:Dr. Howlett from the Department of Physiology and Pharmacolog
y at Wake Forest School of Medicine will give a talk\, "Regulation of the 
Pot-Holder: CB1 cannabinoid receptors and associated proteins\," and will 
cover how the CB1cannabinoid receptor is a therapeutic target for treatmen
t of addictions\, neurodegenerative disorders and pain management amongst 
other points. Please see flyer for full abstract and details.
BEGIN:VTIMEZONE
TZID:America/New_York
BEGIN:DAYLIGHT
TZOFFSETFROM:-0500
TZOFFSETTO:-0400
TZNAME:EDT
DTSTART:19700308T020000
RRULE:FREQ=YEARLY;BYMONTH=3;BYDAY=2SU
END:DAYLIGHT
BEGIN:STANDARD
TZOFFSETFROM:-0400
TZOFFSETTO:-0500
TZNAME:EST
DTSTART:19701101T020000
RRULE:FREQ=YEARLY;BYMONTH=11;BYDAY=1SU
END:STANDARD
END:VTIMEZONE
BEGIN:VEVENT
DTSTART:20190325T150000
DTEND:20190325T160000
DTSTAMP:20190325T153217
UID:4fc977909e8e0b944541c792b3ffdd72
CREATED:20190305T143637
DESCRIPTION:Dr. Howlett from the Department of Physiology and Pharmacology
 at Wake Forest School of Medicine will give a talk\, "Regulation of the P
ot-Holder: CB1 cannabinoid receptors and associated proteins\," and will c
over how the CB1cannabinoid receptor is a therapeutic target for treatment
 of addictions\, neurodegenerative disorders and pain management amongst o
ther points. Please see flyer for full abstract and details.
LAST-MODIFIED:20190305T143637
LOCATION:Life Science Building Room 103
SEQUENCE:0
STATUS:CONFIRMED
SUMMARY:Research Seminar: Allyn C. Howlett\, Ph.D.
TRANSP:OPAQUE
END:VEVENT
BEGIN:VEVENT
DTSTART:20190325T150000
DTEND:20190325T160000
DTSTAMP:20190325T153217
UID:4fc977909e8e0b944541c792b3ffdd72
CREATED:20190305T143637
DESCRIPTION:Dr. Howlett from the Department of Physiology and Pharmacology
 at Wake Forest School of Medicine will give a talk\, "Regulation of the P
ot-Holder: CB1 cannabinoid receptors and associated proteins\," and will c
over how the CB1cannabinoid receptor is a therapeutic target for treatment
 of addictions\, neurodegenerative disorders and pain management amongst o
ther points. Please see flyer for full abstract and details.
LAST-MODIFIED:20190305T143637
LOCATION:Life Science Building Room 103
SEQUENCE:0
STATUS:CONFIRMED
SUMMARY:Research Seminar: Allyn C. Howlett\, Ph.D.
TRANSP:OPAQUE
END:VEVENT
END:VCALENDAR
# <pass-through></pass-through>